BEGIN:VCALENDAR
VERSION:2.0
PRODID:-//Kalender//
BEGIN:VEVENT
SUMMARY:Ergänzungsschulung Technische Regeln der Gasinstallation (TRGI) 
 – Teil 4
DTSTART:20260623T070000Z
DTEND:20260623T100000Z
DTSTAMP:20260422T030342Z
UID:event_ical_eventmanagement_2272
DESCRIPTION:Der TRGI-Teil 4 ist ein neuer Ergänzungsschulungsteil gemäß
  TRGI 2018 und stellt die Fortsetzung der bisherigen Ergänzungsschulungen
  dar. Im zweijährlichen Turnus werden in diesem Schulungsteil aktuelle Ne
 uerungen\, Regelwerksänderungen und Erfahrungen aus der Praxis vermittelt
 . Die Schulung dient der fachlichen Aktualisierung zur Verlängerung der I
 nstallateurausweise und greift typische Arbeiten an Gasinstallationen auf.
  Inhalte der Schulung Der Schwerpunkt liegt auf praxisnahen Tätigkeiten\,
  unter anderem: geringfügige Änderungsarbeiten wie Umbau\, Rückbau und 
 Erweiterungen unter Berücksichtigung technischer und rechtlicher Rahmenbe
 dingungen Prüfungen von Bestandsanlagen (Gebrauchsfähigkeitsprüfung\, B
 ewertung von Bestandsanlagen und Einlassen von Gas) richtiges Verhalten be
 i Gasgeruch sowie Arbeitsschutzmaßnahmen Erfahrungen und Hinweise aus der
  TRGI 2018 zum sicheren Umgang mit den aktuellen Vorschriften Ergänzend w
 erden Aspekte zur Auswahl von Bauteilen und raumluftabhängigen Gasgeräte
 n behandelt. Auch der Verbrennungsluftverbund\, notwendige Kontrollen sowi
 e der Brandschutz im Bestandsschutz werden praxisnah und verständlich erl
 äutert. Referent: Herr Thorsten Rabe
LOCATION:ICR Informatik Center Roggentin\, Konrad-Zuse-Straße 1 A\, 18184
  Roggentin\, -
END:VEVENT
END:VCALENDAR
