BEGIN:VCALENDAR
VERSION:2.0
PRODID:-//Kalender//
BEGIN:VEVENT
SUMMARY:TRF-Schulung mit Primagas
DTSTART:20260917T070000Z
DTEND:20260917T140000Z
DTSTAMP:20260422T030305Z
UID:event_ical_eventmanagement_2264
DESCRIPTION:Die Nutzungspflicht von 65% erneuerbaren Energien ist durch di
 e Kombination von biogenem Flüssiggas und bewährter Heizungstechnik in v
 ielen Varianten umsetzbar. Und das nicht nur für Neubauten\, sondern auch
  für Bestandsgebäude. Wir stellen Ihnen die Rahmenbedingungen vor\, und 
 welche Herausforderungen und Möglichkeiten sich daraus ergeben. Unsere bu
 ndesweiten Schulungen helfen Ihnen in Ihrem Arbeitsalltag durch praktische
  Übungen\, wichtige Informationen und nützliche Tipps. Es erwartet Sie n
 icht bloße Theorie\, sondern ein hilfreiches Training für echte Profis. 
 Dafür gibt es vor Ort eine komplette Flüssiggas-Anlage vom Behälter bis
  zur Hauseinführung als Modell aus echten Bauteilen. An diesen innovative
 n Praxisboxen können alle Details gezeigt und relevante Handgriffe geübt
  werden. Schulungsinhalte: Grundlagen - Änderungen zur TRF 2012 - Anwendu
 ngsbereich TRF 2021 - Der Weg des Gases zum Verbrauchsgerät Flüssiggasbe
 hälter Vorstellung Installationswände Druckregler Rohrleitung mit Hausei
 nführung (Teil 1) Rohrleitung mit Hauseinführung (Teil 2) Prüfung und I
 nbetriebnahme Vorstellung Installationswände Futuria Propan als erneuerba
 re Erfüllungsoption im GEG und in der kommunalen Wärmeplanung
LOCATION:Bildungs- und Technologiezentrum der Handwerkskammer Schwerin\, W
 erkstraße 600\, 19061 Schwerin\, -
END:VEVENT
END:VCALENDAR
