BEGIN:VCALENDAR
VERSION:2.0
PRODID:-//Kalender//
BEGIN:VEVENT
SUMMARY:Baurecht: Gewährleistung und Garantie in der Haustechnik
DTSTART:20261112T090000Z
DTEND:20261112T140000Z
DTSTAMP:20260422T030449Z
UID:event_ical_eventmanagement_2227
DESCRIPTION:Kein anderes Gebiet im Baurecht bereitet an der Basis so viele
  Verständnisschwierigkeiten\, wie die Gewährleistungsproblematik. Das be
 ginnt bei der Abnahme\, die mit entscheidenden Rechtsfolgen verknüpft ist
 \, die Auftragnehmer kennen müssen. Hersteller\, Händler\, Verbraucher a
 ber leider auch ausführende Unternehmen und Planer beurteilen immer wiede
 r völlig falsch\, wann ein Gewährleistungsfall vorliegt und wie man dann
  mit Ansprüchen umgeht. Gewährleistungen und Garantie sind auseinander z
 u halten\, ebenso wie Werkvertragsrecht und Kaufrecht. Weniger als 10% all
 er Mangelanzeigen betreffen rechtlich die bauvertragliche bzw. gesetzliche
  Gewährleistungsproblematik und über 80% der Abnahmeverweigerungen durch
  Auftraggeber sind als rechtlich nicht tragbar eingestuft. Schwerpunkte: S
 tartpunkt für die Gewährleistung -Bedeutung der Abnahme Inhalte der Gew
 ährleistungsverpflichtung Abgrenzungskriterien zur Garantie Differenziert
 e Vertragsarten – differenzierte Gewährleistungsfristen Probleme in der
  Leistungskette Umgang mit unberechtigten Mangelanzeigen Regressmöglichke
 iten gegenüber Lieferanten im Zusammenhang mit mangelhaften Materialien H
 aftung für die Nebenkosten im Zusammenhang mit materialbedingten Mangelbe
 seitigungsarbeiten Das Seminar ist als 5-Stunden-Seminar konzipiert. Es be
 steht ausreichend Zeit für die Klärung von Fragen und zur Diskussion. Fr
 ei von juristischem Kauderwelsch\, lebhaft und verständlich werden aus de
 m Prozessalltag haustechnische Fälle vorgestellt und Tipps zur Beherrschu
 ng wiederkehrender juristischer Fragen vermittelt. Die aktuelle Rechtsprec
 hung zu den Themen findet Berücksichtigung. Manuskriptunterlagen werden z
 ur Verfügung gestellt. Referent: RA Dr. jur. Hans-Michael Dimanski
LOCATION:ICR Informatik Center Roggentin\, Konrad-Zuse-Straße 1 A\, 18184
  Roggentin\, -
END:VEVENT
END:VCALENDAR
