BEGIN:VCALENDAR
VERSION:2.0
PRODID:-//Kalender//
BEGIN:VEVENT
SUMMARY:Abnahme - Umgang mit Verzögerungstricks der Auftraggeberseite
DTSTART:20260707T080000Z
DTEND:20260707T130000Z
DTSTAMP:20260422T030424Z
UID:event_ical_eventmanagement_2226
DESCRIPTION:Die entgegengesetzte Bedeutung der Abnahme für die Vertragspa
 rtner ist oft der Grund für die kreativen Einfälle der Auftraggeberseite
 \, die Abnahme zu verzögern oder zu verweigern. Der Kulminationspunkt im 
 Baugeschehen ist die Abnahme. Kein anderer Moment ist so wichtig wie diese
 r. Mit der Abnahme stellen sich Rechtswirkungen ein\, die für den Auftrag
 nehmer ebenso fundamental sind\, wie für den Auftraggeber. Die Praxis ken
 nt viele Beispiele\, in denen die Fehler bei der Abnahme dann zu Vergütun
 gsausfällen in Größenordnungen geführt haben. Deshalb ist eine korrekt
 e Abnahme so wichtig für den Erfolg des Werkunternehmers. Schwerpunkte: R
 echtsinhalt der Abnahme Regelungen zur Abnahme – Umgang mit rechtsunwirk
 samen AGB Formen der Abnahme Der einfache Weg zur Abnahme Umgang mit Abnah
 meverweigerungen Die Bedeutung der Zustandsfeststellung nach verweigerter 
 Abnahme Das Seminar ist als 5-Stunden-Seminar konzipiert. Es besteht ausre
 ichend Zeit für die Klärung von Fragen und zur Diskussion. Frei von juri
 stischem Kauderwelsch\, lebhaft und verständlich werden aus dem Prozessal
 ltag haustechnische Fälle vorgestellt und Tipps zur Beherrschung wiederke
 hrender juristischer Fragen vermittelt. Die aktuelle Rechtsprechung zu den
  Themen findet Berücksichtigung. Manuskriptunterlagen werden nach der Ver
 anstaltung zur Verfügung gestellt. Referent: RA Dr. jur. Hans-Michael Dim
 anski
LOCATION:ICR Informatik Center Roggentin\, Konrad-Zuse-Straße 1 A\, 18184
  Roggentin\, -
END:VEVENT
END:VCALENDAR
